BEGIN:VCALENDAR
VERSION:2.0
PRODID:-//Novi Travel Tours - ECPv4.5.2.1//NONSGML v1.0//EN
CALSCALE:GREGORIAN
METHOD:PUBLISH
X-WR-CALNAME:Novi Travel Tours
X-ORIGINAL-URL:https://novitraveltours.com
X-WR-CALDESC:Events for Novi Travel Tours
BEGIN:VEVENT
DTSTART;TZID=UTC+0:20160218T100000
DTEND;TZID=UTC+0:20160218T113000
DTSTAMP:20260425T193949
CREATED:20150716T094936Z
LAST-MODIFIED:20150716T094936Z
UID:111-1455789600-1455795000@novitraveltours.com
SUMMARY:Elite group organization
DESCRIPTION:Nulla sagittis arcu et risus eleifend eleifend. Integer id maximus nibh. Sed non enim fringilla\, mollis ex non\, vestibulum neque. Sed non lacus nisl. Pellentesque lobortis risus in convallis tempor. Cras ultricies lectus sit amet est convallis rutrum. Praesent non ultrices nibh\, a interdum sem. Nulla dui ligula\, malesuada sed ante a\, scelerisque tristique nibh. Vivamus nec dapibus dui. Maecenas non cursus metus.\n\nInteger id maximus nibh. Sed non enim fringilla\, mollis ex non\, vestibulum neque. Sed non lacus nisl. Pellentesque lobortis risus in convallis tempor. Cras ultricies lectus sit amet est convallis rutrum. Praesent non ultrices nibh\, a interdum sem. Nulla dui ligula\, malesuada sed ante a\, scelerisque tristique nibh. Vivamus nec dapibus dui. Maecenas non cursus metus.
URL:https://novitraveltours.com/event/elite-group-organization/
LOCATION:Near Varadharaja mills\, Coimbatore\, TN\, 6536440\, India
CATEGORIES:Service
ORGANIZER;CN="Daniel%20Craig":MAILTO:ram@iamdesigning.com
END:VEVENT
END:VCALENDAR